BEGIN:VCALENDAR
VERSION:2.0
PRODID:spatie/icalendar-generator
BEGIN:VTIMEZONE
TZID:UTC
BEGIN:STANDARD
DTSTART:20250723T150548
TZOFFSETFROM:+0000
TZOFFSETTO:+0000
END:STANDARD
END:VTIMEZONE
BEGIN:VEVENT
UID:69e4ef4c8ec2f
DTSTAMP:20260419T150548Z
SUMMARY:Leonardo da Vinci – Erfindungen erleben
DTSTART:20270106T100000Z
DTEND:20270106T100000Z
END:VEVENT
END:VCALENDAR