BEGIN:VCALENDAR
VERSION:2.0
PRODID:spatie/icalendar-generator
BEGIN:VTIMEZONE
TZID:UTC
BEGIN:STANDARD
DTSTART:20250723T165302
TZOFFSETFROM:+0000
TZOFFSETTO:+0000
END:STANDARD
END:VTIMEZONE
BEGIN:VEVENT
UID:69e5086e274b1
DTSTAMP:20260419T165302Z
SUMMARY:Leonardo da Vinci – Erfindungen erleben
DTSTART:20270105T100000Z
DTEND:20270105T100000Z
END:VEVENT
END:VCALENDAR