BEGIN:VCALENDAR
VERSION:2.0
PRODID:spatie/icalendar-generator
BEGIN:VTIMEZONE
TZID:UTC
BEGIN:STANDARD
DTSTART:20250723T165259
TZOFFSETFROM:+0000
TZOFFSETTO:+0000
END:STANDARD
END:VTIMEZONE
BEGIN:VEVENT
UID:69e5086b8cb35
DTSTAMP:20260419T165259Z
SUMMARY:Leonardo da Vinci – Erfindungen erleben
DTSTART:20270103T100000Z
DTEND:20270103T100000Z
END:VEVENT
END:VCALENDAR