BEGIN:VCALENDAR
VERSION:2.0
PRODID:spatie/icalendar-generator
BEGIN:VTIMEZONE
TZID:UTC
BEGIN:STANDARD
DTSTART:20250723T183433
TZOFFSETFROM:+0000
TZOFFSETTO:+0000
END:STANDARD
END:VTIMEZONE
BEGIN:VEVENT
UID:69e52039c52a2
DTSTAMP:20260419T183433Z
SUMMARY:Leonardo da Vinci – Erfindungen erleben
DTSTART:20261230T100000Z
DTEND:20261230T100000Z
END:VEVENT
END:VCALENDAR