BEGIN:VCALENDAR
VERSION:2.0
PRODID:spatie/icalendar-generator
BEGIN:VTIMEZONE
TZID:UTC
BEGIN:STANDARD
DTSTART:20250723T202135
TZOFFSETFROM:+0000
TZOFFSETTO:+0000
END:STANDARD
END:VTIMEZONE
BEGIN:VEVENT
UID:69e5394fc9ab3
DTSTAMP:20260419T202135Z
SUMMARY:Leonardo da Vinci – Erfindungen erleben
DTSTART:20261229T100000Z
DTEND:20261229T100000Z
END:VEVENT
END:VCALENDAR