BEGIN:VCALENDAR
VERSION:2.0
PRODID:spatie/icalendar-generator
BEGIN:VTIMEZONE
TZID:UTC
BEGIN:STANDARD
DTSTART:20250723T202137
TZOFFSETFROM:+0000
TZOFFSETTO:+0000
END:STANDARD
END:VTIMEZONE
BEGIN:VEVENT
UID:69e53951ca610
DTSTAMP:20260419T202137Z
SUMMARY:Leonardo da Vinci – Erfindungen erleben
DTSTART:20261227T100000Z
DTEND:20261227T100000Z
END:VEVENT
END:VCALENDAR