BEGIN:VCALENDAR
VERSION:2.0
PRODID:spatie/icalendar-generator
BEGIN:VTIMEZONE
TZID:UTC
BEGIN:STANDARD
DTSTART:20250725T075327
TZOFFSETFROM:+0000
TZOFFSETTO:+0000
END:STANDARD
END:VTIMEZONE
BEGIN:VEVENT
UID:69e72cf70fc1a
DTSTAMP:20260421T075327Z
SUMMARY:Leonardo da Vinci – Erfindungen erleben
DTSTART:20261223T100000Z
DTEND:20261223T100000Z
END:VEVENT
END:VCALENDAR