BEGIN:VCALENDAR
VERSION:2.0
PRODID:spatie/icalendar-generator
BEGIN:VTIMEZONE
TZID:UTC
BEGIN:STANDARD
DTSTART:20250725T134746
TZOFFSETFROM:+0000
TZOFFSETTO:+0000
END:STANDARD
END:VTIMEZONE
BEGIN:VEVENT
UID:69e78002f0501
DTSTAMP:20260421T134746Z
SUMMARY:Leonardo da Vinci – Erfindungen erleben
DTSTART:20261212T100000Z
DTEND:20261212T100000Z
END:VEVENT
END:VCALENDAR