BEGIN:VCALENDAR
VERSION:2.0
PRODID:spatie/icalendar-generator
BEGIN:VTIMEZONE
TZID:UTC
BEGIN:STANDARD
DTSTART:20250725T152510
TZOFFSETFROM:+0000
TZOFFSETTO:+0000
END:STANDARD
END:VTIMEZONE
BEGIN:VEVENT
UID:69e796d6cbe2e
DTSTAMP:20260421T152510Z
SUMMARY:Leonardo da Vinci – Erfindungen erleben
DTSTART:20261209T100000Z
DTEND:20261209T100000Z
END:VEVENT
END:VCALENDAR