BEGIN:VCALENDAR
VERSION:2.0
PRODID:spatie/icalendar-generator
BEGIN:VTIMEZONE
TZID:UTC
BEGIN:STANDARD
DTSTART:20250725T171850
TZOFFSETFROM:+0000
TZOFFSETTO:+0000
END:STANDARD
END:VTIMEZONE
BEGIN:VEVENT
UID:69e7b17ad4cba
DTSTAMP:20260421T171850Z
SUMMARY:Leonardo da Vinci – Erfindungen erleben
DTSTART:20261206T100000Z
DTEND:20261206T100000Z
END:VEVENT
END:VCALENDAR