BEGIN:VCALENDAR
VERSION:2.0
PRODID:spatie/icalendar-generator
BEGIN:VTIMEZONE
TZID:UTC
BEGIN:STANDARD
DTSTART:20250725T212634
TZOFFSETFROM:+0000
TZOFFSETTO:+0000
END:STANDARD
END:VTIMEZONE
BEGIN:VEVENT
UID:69e7eb8ab5168
DTSTAMP:20260421T212634Z
SUMMARY:Leonardo da Vinci – Erfindungen erleben
DTSTART:20261201T100000Z
DTEND:20261201T100000Z
END:VEVENT
END:VCALENDAR