BEGIN:VCALENDAR
VERSION:2.0
PRODID:spatie/icalendar-generator
BEGIN:VTIMEZONE
TZID:UTC
BEGIN:STANDARD
DTSTART:20250725T231814
TZOFFSETFROM:+0000
TZOFFSETTO:+0000
END:STANDARD
END:VTIMEZONE
BEGIN:VEVENT
UID:69e805b6524ae
DTSTAMP:20260421T231814Z
SUMMARY:Leonardo da Vinci – Erfindungen erleben
DTSTART:20261128T100000Z
DTEND:20261128T100000Z
END:VEVENT
END:VCALENDAR