BEGIN:VCALENDAR
VERSION:2.0
PRODID:spatie/icalendar-generator
BEGIN:VTIMEZONE
TZID:UTC
BEGIN:STANDARD
DTSTART:20250726T010544
TZOFFSETFROM:+0000
TZOFFSETTO:+0000
END:STANDARD
END:VTIMEZONE
BEGIN:VEVENT
UID:69e81ee825f20
DTSTAMP:20260422T010544Z
SUMMARY:Leonardo da Vinci – Erfindungen erleben
DTSTART:20261126T100000Z
DTEND:20261126T100000Z
END:VEVENT
END:VCALENDAR