BEGIN:VCALENDAR
VERSION:2.0
PRODID:spatie/icalendar-generator
BEGIN:VTIMEZONE
TZID:UTC
BEGIN:STANDARD
DTSTART:20250726T040453
TZOFFSETFROM:+0000
TZOFFSETTO:+0000
END:STANDARD
END:VTIMEZONE
BEGIN:VEVENT
UID:69e848e5a3f58
DTSTAMP:20260422T040453Z
SUMMARY:Leonardo da Vinci – Erfindungen erleben
DTSTART:20261124T100000Z
DTEND:20261124T100000Z
END:VEVENT
END:VCALENDAR