BEGIN:VCALENDAR
VERSION:2.0
PRODID:spatie/icalendar-generator
BEGIN:VTIMEZONE
TZID:UTC
BEGIN:STANDARD
DTSTART:20250726T072900
TZOFFSETFROM:+0000
TZOFFSETTO:+0000
END:STANDARD
END:VTIMEZONE
BEGIN:VEVENT
UID:69e878bcc7847
DTSTAMP:20260422T072900Z
SUMMARY:Leonardo da Vinci – Erfindungen erleben
DTSTART:20261119T100000Z
DTEND:20261119T100000Z
END:VEVENT
END:VCALENDAR