BEGIN:VCALENDAR
VERSION:2.0
PRODID:spatie/icalendar-generator
BEGIN:VTIMEZONE
TZID:UTC
BEGIN:STANDARD
DTSTART:20250726T112902
TZOFFSETFROM:+0000
TZOFFSETTO:+0000
END:STANDARD
END:VTIMEZONE
BEGIN:VEVENT
UID:69e8b0fed995e
DTSTAMP:20260422T112902Z
SUMMARY:Leonardo da Vinci – Erfindungen erleben
DTSTART:20261113T100000Z
DTEND:20261113T100000Z
END:VEVENT
END:VCALENDAR