BEGIN:VCALENDAR
VERSION:2.0
PRODID:spatie/icalendar-generator
BEGIN:VTIMEZONE
TZID:UTC
BEGIN:STANDARD
DTSTART:20250726T141359
TZOFFSETFROM:+0000
TZOFFSETTO:+0000
END:STANDARD
END:VTIMEZONE
BEGIN:VEVENT
UID:69e8d7a76e65d
DTSTAMP:20260422T141359Z
SUMMARY:Leonardo da Vinci – Erfindungen erleben
DTSTART:20261110T100000Z
DTEND:20261110T100000Z
END:VEVENT
END:VCALENDAR