BEGIN:VCALENDAR
VERSION:2.0
PRODID:spatie/icalendar-generator
BEGIN:VTIMEZONE
TZID:UTC
BEGIN:STANDARD
DTSTART:20250726T191001
TZOFFSETFROM:+0000
TZOFFSETTO:+0000
END:STANDARD
END:VTIMEZONE
BEGIN:VEVENT
UID:69e91d091b3ae
DTSTAMP:20260422T191001Z
SUMMARY:Leonardo da Vinci – Erfindungen erleben
DTSTART:20261105T100000Z
DTEND:20261105T100000Z
END:VEVENT
END:VCALENDAR