BEGIN:VCALENDAR
VERSION:2.0
PRODID:spatie/icalendar-generator
BEGIN:VTIMEZONE
TZID:UTC
BEGIN:STANDARD
DTSTART:20250726T193716
TZOFFSETFROM:+0000
TZOFFSETTO:+0000
END:STANDARD
END:VTIMEZONE
BEGIN:VEVENT
UID:69e9236c9677c
DTSTAMP:20260422T193716Z
SUMMARY:Leonardo da Vinci – Erfindungen erleben
DTSTART:20261103T100000Z
DTEND:20261103T100000Z
END:VEVENT
END:VCALENDAR