BEGIN:VCALENDAR
VERSION:2.0
PRODID:spatie/icalendar-generator
BEGIN:VTIMEZONE
TZID:UTC
BEGIN:STANDARD
DTSTART:20250726T225533
TZOFFSETFROM:+0000
TZOFFSETTO:+0000
END:STANDARD
END:VTIMEZONE
BEGIN:VEVENT
UID:69e951e5b6d51
DTSTAMP:20260422T225533Z
SUMMARY:Leonardo da Vinci – Erfindungen erleben
DTSTART:20261028T100000Z
DTEND:20261028T100000Z
END:VEVENT
END:VCALENDAR