BEGIN:VCALENDAR
VERSION:2.0
PRODID:spatie/icalendar-generator
BEGIN:VTIMEZONE
TZID:UTC
BEGIN:STANDARD
DTSTART:20250727T033827
TZOFFSETFROM:+0000
TZOFFSETTO:+0000
END:STANDARD
END:VTIMEZONE
BEGIN:VEVENT
UID:69e99433366df
DTSTAMP:20260423T033827Z
SUMMARY:Leonardo da Vinci – Erfindungen erleben
DTSTART:20261024T090000Z
DTEND:20261024T090000Z
END:VEVENT
END:VCALENDAR