BEGIN:VCALENDAR
VERSION:2.0
PRODID:spatie/icalendar-generator
BEGIN:VTIMEZONE
TZID:UTC
BEGIN:STANDARD
DTSTART:20250727T032641
TZOFFSETFROM:+0000
TZOFFSETTO:+0000
END:STANDARD
END:VTIMEZONE
BEGIN:VEVENT
UID:69e9917173f97
DTSTAMP:20260423T032641Z
SUMMARY:Leonardo da Vinci – Erfindungen erleben
DTSTART:20261023T090000Z
DTEND:20261023T090000Z
END:VEVENT
END:VCALENDAR