BEGIN:VCALENDAR
VERSION:2.0
PRODID:spatie/icalendar-generator
BEGIN:VTIMEZONE
TZID:UTC
BEGIN:STANDARD
DTSTART:20250727T045718
TZOFFSETFROM:+0000
TZOFFSETTO:+0000
END:STANDARD
END:VTIMEZONE
BEGIN:VEVENT
UID:69e9a6ae0842a
DTSTAMP:20260423T045718Z
SUMMARY:Leonardo da Vinci – Erfindungen erleben
DTSTART:20261022T090000Z
DTEND:20261022T090000Z
END:VEVENT
END:VCALENDAR