BEGIN:VCALENDAR
VERSION:2.0
PRODID:spatie/icalendar-generator
BEGIN:VTIMEZONE
TZID:UTC
BEGIN:STANDARD
DTSTART:20250727T075833
TZOFFSETFROM:+0000
TZOFFSETTO:+0000
END:STANDARD
END:VTIMEZONE
BEGIN:VEVENT
UID:69e9d12907c2c
DTSTAMP:20260423T075833Z
SUMMARY:Leonardo da Vinci – Erfindungen erleben
DTSTART:20261017T090000Z
DTEND:20261017T090000Z
END:VEVENT
END:VCALENDAR