BEGIN:VCALENDAR
VERSION:2.0
PRODID:spatie/icalendar-generator
BEGIN:VTIMEZONE
TZID:UTC
BEGIN:STANDARD
DTSTART:20250727T075834
TZOFFSETFROM:+0000
TZOFFSETTO:+0000
END:STANDARD
END:VTIMEZONE
BEGIN:VEVENT
UID:69e9d12ade782
DTSTAMP:20260423T075834Z
SUMMARY:Leonardo da Vinci – Erfindungen erleben
DTSTART:20261016T090000Z
DTEND:20261016T090000Z
END:VEVENT
END:VCALENDAR