BEGIN:VCALENDAR
VERSION:2.0
PRODID:spatie/icalendar-generator
BEGIN:VTIMEZONE
TZID:UTC
BEGIN:STANDARD
DTSTART:20250726T203218
TZOFFSETFROM:+0000
TZOFFSETTO:+0000
END:STANDARD
END:VTIMEZONE
BEGIN:VEVENT
UID:69e93052bd9c9
DTSTAMP:20260422T203218Z
SUMMARY:Zu Gast: Der Leica Oskar Barnack Award
DTSTART:20260611T080000Z
DTEND:20260611T080000Z
END:VEVENT
END:VCALENDAR