BEGIN:VCALENDAR
VERSION:2.0
PRODID:spatie/icalendar-generator
BEGIN:VTIMEZONE
TZID:UTC
BEGIN:STANDARD
DTSTART:20250724T113307
TZOFFSETFROM:+0000
TZOFFSETTO:+0000
END:STANDARD
END:VTIMEZONE
BEGIN:VEVENT
UID:69e60ef3895cf
DTSTAMP:20260420T113307Z
SUMMARY:Zu Gast: Der Leica Oskar Barnack Award
DTSTART:20260605T080000Z
DTEND:20260605T080000Z
END:VEVENT
END:VCALENDAR