BEGIN:VCALENDAR
VERSION:2.0
PRODID:spatie/icalendar-generator
BEGIN:VTIMEZONE
TZID:UTC
BEGIN:STANDARD
DTSTART:20250726T124705
TZOFFSETFROM:+0000
TZOFFSETTO:+0000
END:STANDARD
END:VTIMEZONE
BEGIN:VEVENT
UID:69e8c34939d7d
DTSTAMP:20260422T124705Z
SUMMARY:Zu Gast: Der Leica Oskar Barnack Award
DTSTART:20260603T080000Z
DTEND:20260603T080000Z
END:VEVENT
END:VCALENDAR