BEGIN:VCALENDAR
VERSION:2.0
PRODID:spatie/icalendar-generator
BEGIN:VTIMEZONE
TZID:UTC
BEGIN:STANDARD
DTSTART:20250725T212315
TZOFFSETFROM:+0000
TZOFFSETTO:+0000
END:STANDARD
END:VTIMEZONE
BEGIN:VEVENT
UID:69e7eac362b53
DTSTAMP:20260421T212315Z
SUMMARY:Zu Gast: Der Leica Oskar Barnack Award
DTSTART:20260520T080000Z
DTEND:20260520T080000Z
END:VEVENT
END:VCALENDAR