BEGIN:VCALENDAR
VERSION:2.0
PRODID:spatie/icalendar-generator
BEGIN:VTIMEZONE
TZID:UTC
BEGIN:STANDARD
DTSTART:20250724T113346
TZOFFSETFROM:+0000
TZOFFSETTO:+0000
END:STANDARD
END:VTIMEZONE
BEGIN:VEVENT
UID:69e60f1a08e85
DTSTAMP:20260420T113346Z
SUMMARY:Zu Gast: Der Leica Oskar Barnack Award
DTSTART:20260515T080000Z
DTEND:20260515T080000Z
END:VEVENT
END:VCALENDAR