BEGIN:VCALENDAR
VERSION:2.0
PRODID:spatie/icalendar-generator
BEGIN:VTIMEZONE
TZID:UTC
BEGIN:STANDARD
DTSTART:20250725T075408
TZOFFSETFROM:+0000
TZOFFSETTO:+0000
END:STANDARD
END:VTIMEZONE
BEGIN:VEVENT
UID:69e72d208f621
DTSTAMP:20260421T075408Z
SUMMARY:Zu Gast: Der Leica Oskar Barnack Award
DTSTART:20260512T080000Z
DTEND:20260512T080000Z
END:VEVENT
END:VCALENDAR