BEGIN:VCALENDAR
VERSION:2.0
PRODID:spatie/icalendar-generator
BEGIN:VTIMEZONE
TZID:UTC
BEGIN:STANDARD
DTSTART:20250724T010356
TZOFFSETFROM:+0000
TZOFFSETTO:+0000
END:STANDARD
END:VTIMEZONE
BEGIN:VEVENT
UID:69e57b7c12899
DTSTAMP:20260420T010356Z
SUMMARY:Schamanen Sibiriens - Zwischen den Welten
DTSTART:20270221T090000Z
DTEND:20270221T090000Z
END:VEVENT
END:VCALENDAR