BEGIN:VCALENDAR
VERSION:2.0
PRODID:spatie/icalendar-generator
BEGIN:VTIMEZONE
TZID:UTC
BEGIN:STANDARD
DTSTART:20250724T074052
TZOFFSETFROM:+0000
TZOFFSETTO:+0000
END:STANDARD
END:VTIMEZONE
BEGIN:VEVENT
UID:69e5d884c05aa
DTSTAMP:20260420T074052Z
SUMMARY:Schamanen Sibiriens - Zwischen den Welten
DTSTART:20270213T090000Z
DTEND:20270213T090000Z
END:VEVENT
END:VCALENDAR