BEGIN:VCALENDAR
VERSION:2.0
PRODID:spatie/icalendar-generator
BEGIN:VTIMEZONE
TZID:UTC
BEGIN:STANDARD
DTSTART:20250724T074053
TZOFFSETFROM:+0000
TZOFFSETTO:+0000
END:STANDARD
END:VTIMEZONE
BEGIN:VEVENT
UID:69e5d88545d8d
DTSTAMP:20260420T074053Z
SUMMARY:Schamanen Sibiriens - Zwischen den Welten
DTSTART:20270212T090000Z
DTEND:20270212T090000Z
END:VEVENT
END:VCALENDAR