BEGIN:VCALENDAR
VERSION:2.0
PRODID:spatie/icalendar-generator
BEGIN:VTIMEZONE
TZID:UTC
BEGIN:STANDARD
DTSTART:20250724T094004
TZOFFSETFROM:+0000
TZOFFSETTO:+0000
END:STANDARD
END:VTIMEZONE
BEGIN:VEVENT
UID:69e5f474065dd
DTSTAMP:20260420T094004Z
SUMMARY:Schamanen Sibiriens - Zwischen den Welten
DTSTART:20270209T090000Z
DTEND:20270209T090000Z
END:VEVENT
END:VCALENDAR