BEGIN:VCALENDAR
VERSION:2.0
PRODID:spatie/icalendar-generator
BEGIN:VTIMEZONE
TZID:UTC
BEGIN:STANDARD
DTSTART:20250724T113346
TZOFFSETFROM:+0000
TZOFFSETTO:+0000
END:STANDARD
END:VTIMEZONE
BEGIN:VEVENT
UID:69e60f1a2f88a
DTSTAMP:20260420T113346Z
SUMMARY:Schamanen Sibiriens - Zwischen den Welten
DTSTART:20270206T090000Z
DTEND:20270206T090000Z
END:VEVENT
END:VCALENDAR