BEGIN:VCALENDAR
VERSION:2.0
PRODID:spatie/icalendar-generator
BEGIN:VTIMEZONE
TZID:UTC
BEGIN:STANDARD
DTSTART:20250724T145746
TZOFFSETFROM:+0000
TZOFFSETTO:+0000
END:STANDARD
END:VTIMEZONE
BEGIN:VEVENT
UID:69e63eeaef090
DTSTAMP:20260420T145746Z
SUMMARY:Schamanen Sibiriens - Zwischen den Welten
DTSTART:20270129T090000Z
DTEND:20270129T090000Z
END:VEVENT
END:VCALENDAR