BEGIN:VCALENDAR
VERSION:2.0
PRODID:spatie/icalendar-generator
BEGIN:VTIMEZONE
TZID:UTC
BEGIN:STANDARD
DTSTART:20250725T083158
TZOFFSETFROM:+0000
TZOFFSETTO:+0000
END:STANDARD
END:VTIMEZONE
BEGIN:VEVENT
UID:69e735fe0b3cd
DTSTAMP:20260421T083158Z
SUMMARY:Schamanen Sibiriens - Zwischen den Welten
DTSTART:20270116T090000Z
DTEND:20270116T090000Z
END:VEVENT
END:VCALENDAR