BEGIN:VCALENDAR
VERSION:2.0
PRODID:spatie/icalendar-generator
BEGIN:VTIMEZONE
TZID:UTC
BEGIN:STANDARD
DTSTART:20250725T083157
TZOFFSETFROM:+0000
TZOFFSETTO:+0000
END:STANDARD
END:VTIMEZONE
BEGIN:VEVENT
UID:69e735fdf39b2
DTSTAMP:20260421T083157Z
SUMMARY:Schamanen Sibiriens - Zwischen den Welten
DTSTART:20270115T090000Z
DTEND:20270115T090000Z
END:VEVENT
END:VCALENDAR