BEGIN:VCALENDAR
VERSION:2.0
PRODID:spatie/icalendar-generator
BEGIN:VTIMEZONE
TZID:UTC
BEGIN:STANDARD
DTSTART:20250724T062816
TZOFFSETFROM:+0000
TZOFFSETTO:+0000
END:STANDARD
END:VTIMEZONE
BEGIN:VEVENT
UID:69e5c780515be
DTSTAMP:20260420T062816Z
SUMMARY:MusikWelten
DTSTART:20270217T090000Z
DTEND:20270217T090000Z
END:VEVENT
END:VCALENDAR