BEGIN:VCALENDAR
VERSION:2.0
PRODID:spatie/icalendar-generator
BEGIN:VTIMEZONE
TZID:UTC
BEGIN:STANDARD
DTSTART:20250724T074019
TZOFFSETFROM:+0000
TZOFFSETTO:+0000
END:STANDARD
END:VTIMEZONE
BEGIN:VEVENT
UID:69e5d863210ae
DTSTAMP:20260420T074019Z
SUMMARY:MusikWelten
DTSTART:20270212T090000Z
DTEND:20270212T090000Z
END:VEVENT
END:VCALENDAR