BEGIN:VCALENDAR
VERSION:2.0
PRODID:spatie/icalendar-generator
BEGIN:VTIMEZONE
TZID:UTC
BEGIN:STANDARD
DTSTART:20250724T093830
TZOFFSETFROM:+0000
TZOFFSETTO:+0000
END:STANDARD
END:VTIMEZONE
BEGIN:VEVENT
UID:69e5f4165f35c
DTSTAMP:20260420T093830Z
SUMMARY:MusikWelten
DTSTART:20270210T090000Z
DTEND:20270210T090000Z
END:VEVENT
END:VCALENDAR