BEGIN:VCALENDAR
VERSION:2.0
PRODID:spatie/icalendar-generator
BEGIN:VTIMEZONE
TZID:UTC
BEGIN:STANDARD
DTSTART:20250724T112322
TZOFFSETFROM:+0000
TZOFFSETTO:+0000
END:STANDARD
END:VTIMEZONE
BEGIN:VEVENT
UID:69e60caab9480
DTSTAMP:20260420T112322Z
SUMMARY:MusikWelten
DTSTART:20270204T090000Z
DTEND:20270204T090000Z
END:VEVENT
END:VCALENDAR