BEGIN:VCALENDAR
VERSION:2.0
PRODID:spatie/icalendar-generator
BEGIN:VTIMEZONE
TZID:UTC
BEGIN:STANDARD
DTSTART:20250724T131137
TZOFFSETFROM:+0000
TZOFFSETTO:+0000
END:STANDARD
END:VTIMEZONE
BEGIN:VEVENT
UID:69e6260909585
DTSTAMP:20260420T131137Z
SUMMARY:MusikWelten
DTSTART:20270203T090000Z
DTEND:20270203T090000Z
END:VEVENT
END:VCALENDAR