BEGIN:VCALENDAR
VERSION:2.0
PRODID:spatie/icalendar-generator
BEGIN:VTIMEZONE
TZID:UTC
BEGIN:STANDARD
DTSTART:20250724T163311
TZOFFSETFROM:+0000
TZOFFSETTO:+0000
END:STANDARD
END:VTIMEZONE
BEGIN:VEVENT
UID:69e6554727410
DTSTAMP:20260420T163311Z
SUMMARY:MusikWelten
DTSTART:20270126T090000Z
DTEND:20270126T090000Z
END:VEVENT
END:VCALENDAR