BEGIN:VCALENDAR
VERSION:2.0
PRODID:spatie/icalendar-generator
BEGIN:VTIMEZONE
TZID:UTC
BEGIN:STANDARD
DTSTART:20250726T110022
TZOFFSETFROM:+0000
TZOFFSETTO:+0000
END:STANDARD
END:VTIMEZONE
BEGIN:VEVENT
UID:69e8aa46e4e1c
DTSTAMP:20260422T110022Z
SUMMARY:MusikWelten
DTSTART:20270121T090000Z
DTEND:20270121T090000Z
END:VEVENT
END:VCALENDAR