BEGIN:VCALENDAR
VERSION:2.0
PRODID:spatie/icalendar-generator
BEGIN:VTIMEZONE
TZID:UTC
BEGIN:STANDARD
DTSTART:20250724T145747
TZOFFSETFROM:+0000
TZOFFSETTO:+0000
END:STANDARD
END:VTIMEZONE
BEGIN:VEVENT
UID:69e63eebd192a
DTSTAMP:20260420T145747Z
SUMMARY:Versunkene Geschichte - Archäologie an Rhein und Neckar
DTSTART:20270130T090000Z
DTEND:20270130T090000Z
END:VEVENT
END:VCALENDAR