BEGIN:VCALENDAR
VERSION:2.0
PRODID:spatie/icalendar-generator
BEGIN:VTIMEZONE
TZID:UTC
BEGIN:STANDARD
DTSTART:20250724T163156
TZOFFSETFROM:+0000
TZOFFSETTO:+0000
END:STANDARD
END:VTIMEZONE
BEGIN:VEVENT
UID:69e654fc424f9
DTSTAMP:20260420T163156Z
SUMMARY:Versunkene Geschichte - Archäologie an Rhein und Neckar
DTSTART:20270124T090000Z
DTEND:20270124T090000Z
END:VEVENT
END:VCALENDAR