BEGIN:VCALENDAR
VERSION:2.0
PRODID:spatie/icalendar-generator
BEGIN:VTIMEZONE
TZID:UTC
BEGIN:STANDARD
DTSTART:20250724T213353
TZOFFSETFROM:+0000
TZOFFSETTO:+0000
END:STANDARD
END:VTIMEZONE
BEGIN:VEVENT
UID:69e69bc11fd69
DTSTAMP:20260420T213353Z
SUMMARY:Versunkene Geschichte - Archäologie an Rhein und Neckar
DTSTART:20270116T090000Z
DTEND:20270116T090000Z
END:VEVENT
END:VCALENDAR