BEGIN:VCALENDAR
VERSION:2.0
PRODID:spatie/icalendar-generator
BEGIN:VTIMEZONE
TZID:UTC
BEGIN:STANDARD
DTSTART:20250724T010357
TZOFFSETFROM:+0000
TZOFFSETTO:+0000
END:STANDARD
END:VTIMEZONE
BEGIN:VEVENT
UID:69e57b7d1a955
DTSTAMP:20260420T010357Z
SUMMARY:Ägypten - Land der Unsterblichkeit
DTSTART:20270224T090000Z
DTEND:20270224T090000Z
END:VEVENT
END:VCALENDAR